BEGIN:VCALENDAR
VERSION:2.0
PRODID:spatie/icalendar-generator
DESCRIPTION:Events from Rocky Mountain Atheists
X-WR-CALDESC:Events from Rocky Mountain Atheists
REFRESH-INTERVAL;VALUE=DURATION:PT1440M
X-PUBLISHED-TTL:PT1440M
BEGIN:VTIMEZONE
TZID:America/Edmonton
BEGIN:STANDARD
DTSTART:20241103T020000Z
TZOFFSETFROM:-0600
TZOFFSETTO:-0700
END:STANDARD
BEGIN:DAYLIGHT
DTSTART:20250309T020000Z
TZOFFSETFROM:-0700
TZOFFSETTO:-0600
END:DAYLIGHT
BEGIN:STANDARD
DTSTART:20251102T020000Z
TZOFFSETFROM:-0600
TZOFFSETTO:-0700
END:STANDARD
END:VTIMEZONE
BEGIN:VTIMEZONE
TZID:UTC
BEGIN:STANDARD
DTSTART:20250729T120017Z
TZOFFSETFROM:+0000
TZOFFSETTO:+0000
END:STANDARD
END:VTIMEZONE
BEGIN:VEVENT
UID:818-49
DTSTAMP:20260425T120017Z
SUMMARY:WCR Webinar- Information literacy for college students with Fiona D
 yer
LOCATION:
ORGANIZER;CN=admin:MAILTO:webmaster@rockymountainatheists.ca
DTSTART;TZID=America/Edmonton:20250528T190000
DTEND;TZID=America/Edmonton:20250528T210000
X-ALT-DESC;FMTTYPE=TEXT/HTML:<p>How do librarians teach students to become 
 skeptical inquirers during their education and beyond?  Drawing from her w
 ork with college students\, Fiona will share practical strategies and insi
 ghts that can help you become more confident in your information seeking a
 nd retrieval.</p>\n
CATEGORIES:General
URL;VALUE=URI:https://rockymountainatheists.ca/mc-events/wcr-webinar-inform
 ation-literacy-for-college-students-with-fiona-dyer/
METHOD:PUBLISH
END:VEVENT
END:VCALENDAR