BEGIN:VCALENDAR
VERSION:2.0
PRODID:spatie/icalendar-generator
DESCRIPTION:Events from Rocky Mountain Atheists
X-WR-CALDESC:Events from Rocky Mountain Atheists
REFRESH-INTERVAL;VALUE=DURATION:PT1440M
X-PUBLISHED-TTL:PT1440M
BEGIN:VTIMEZONE
TZID:America/Edmonton
BEGIN:DAYLIGHT
DTSTART:20250309T020000Z
TZOFFSETFROM:-0700
TZOFFSETTO:-0600
END:DAYLIGHT
BEGIN:STANDARD
DTSTART:20251102T020000Z
TZOFFSETFROM:-0600
TZOFFSETTO:-0700
END:STANDARD
BEGIN:DAYLIGHT
DTSTART:20260308T020000Z
TZOFFSETFROM:-0700
TZOFFSETTO:-0600
END:DAYLIGHT
END:VTIMEZONE
BEGIN:VTIMEZONE
TZID:UTC
BEGIN:STANDARD
DTSTART:20250725T044300Z
TZOFFSETFROM:+0000
TZOFFSETTO:+0000
END:STANDARD
END:VTIMEZONE
BEGIN:VEVENT
UID:1225-71
DTSTAMP:20260421T044300Z
SUMMARY:Pub Night: Oddly Familiar cover band
LOCATION:
ORGANIZER;CN=admin:MAILTO:webmaster@rockymountainatheists.ca
DTSTART;TZID=America/Edmonton:20250926T190000
DTEND;TZID=America/Edmonton:20250926T200000
X-ALT-DESC;FMTTYPE=TEXT/HTML:<p>Join us at The Rec Room with the RMA house 
 band\, Oddly Familiar (formerly The Heathens)! Enjoy drinks\, snacks\, and
  great conversation while listening to your favorite musical sing-alongs f
 rom the 70s\, 80s\, 90s\, and beyond!</p>\n
CATEGORIES:General
URL;VALUE=URI:https://rockymountainatheists.ca/mc-events/pub-night-oddly-fa
 miliar-cover-band/
METHOD:PUBLISH
END:VEVENT
END:VCALENDAR