BEGIN:VCALENDAR
VERSION:2.0
PRODID:spatie/icalendar-generator
DESCRIPTION:Events from Rocky Mountain Atheists
X-WR-CALDESC:Events from Rocky Mountain Atheists
REFRESH-INTERVAL;VALUE=DURATION:PT1440M
X-PUBLISHED-TTL:PT1440M
BEGIN:VTIMEZONE
TZID:America/Edmonton
BEGIN:STANDARD
DTSTART:20241103T020000Z
TZOFFSETFROM:-0600
TZOFFSETTO:-0700
END:STANDARD
BEGIN:DAYLIGHT
DTSTART:20250309T020000Z
TZOFFSETFROM:-0700
TZOFFSETTO:-0600
END:DAYLIGHT
BEGIN:STANDARD
DTSTART:20251102T020000Z
TZOFFSETFROM:-0600
TZOFFSETTO:-0700
END:STANDARD
END:VTIMEZONE
BEGIN:VTIMEZONE
TZID:UTC
BEGIN:STANDARD
DTSTART:20250729T222843Z
TZOFFSETFROM:+0000
TZOFFSETTO:+0000
END:STANDARD
END:VTIMEZONE
BEGIN:VEVENT
UID:1131-56
DTSTAMP:20260425T222843Z
SUMMARY:Outdoor Pickleball near U of C - $4
LOCATION:
ORGANIZER;CN=H G:MAILTO:helio@pobox.com
DTSTART;TZID=America/Edmonton:20250621T110000
DTEND;TZID=America/Edmonton:20250621T220000
X-ALT-DESC;FMTTYPE=TEXT/HTML:Details Curious about pickleball but haven’t
  tried it yet? Here’s your chance - we will have extra paddles for those
  who don’t have one. Or enjoy it and want to play outdoors on some beaut
 iful courts? They are located at the site of the old Volleydome south of U
  of C in the Foothills Athletic&amp;hellip\;
CATEGORIES:General
URL;VALUE=URI:https://rockymountainatheists.ca/mc-events/outdoor-pickleball
 -near-u-of-c-4/
METHOD:PUBLISH
END:VEVENT
END:VCALENDAR