BEGIN:VCALENDAR
VERSION:2.0
PRODID:spatie/icalendar-generator
DESCRIPTION:Events from Rocky Mountain Atheists
X-WR-CALDESC:Events from Rocky Mountain Atheists
REFRESH-INTERVAL;VALUE=DURATION:PT1440M
X-PUBLISHED-TTL:PT1440M
BEGIN:VTIMEZONE
TZID:America/Edmonton
BEGIN:STANDARD
DTSTART:20241103T020000Z
TZOFFSETFROM:-0600
TZOFFSETTO:-0700
END:STANDARD
BEGIN:DAYLIGHT
DTSTART:20250309T020000Z
TZOFFSETFROM:-0700
TZOFFSETTO:-0600
END:DAYLIGHT
END:VTIMEZONE
BEGIN:VTIMEZONE
TZID:UTC
BEGIN:STANDARD
DTSTART:20250726T222909Z
TZOFFSETFROM:+0000
TZOFFSETTO:+0000
END:STANDARD
END:VTIMEZONE
BEGIN:VEVENT
UID:815-46
DTSTAMP:20260422T222909Z
SUMMARY:WeCanReason Webinar - Influenza: from the Spanish lady to the winte
 r sniffle (Recorded)
LOCATION:
ORGANIZER;CN=admin:MAILTO:webmaster@rockymountainatheists.ca
DTSTART;TZID=America/Edmonton:20250423T190000
DTEND;TZID=America/Edmonton:20250423T210000
X-ALT-DESC;FMTTYPE=TEXT/HTML:<p>Wed April 16 Noon to 2 PM is the \"Live\" i
 nteractive event where you can ask the speaker\, David Miles\, questions. 
 This event will be recorded and a replay (no live Q+A) will be on April 23
 \, 7-9pm</p>\n
CATEGORIES:General
URL;VALUE=URI:https://rockymountainatheists.ca/mc-events/wecanreason-webina
 r-influenza-from-the-spanish-lady-to-the-winter-sniffle-recorded/
METHOD:PUBLISH
END:VEVENT
END:VCALENDAR