BEGIN:VCALENDAR
VERSION:2.0
PRODID:spatie/icalendar-generator
DESCRIPTION:Events from Rocky Mountain Atheists
X-WR-CALDESC:Events from Rocky Mountain Atheists
REFRESH-INTERVAL;VALUE=DURATION:PT1440M
X-PUBLISHED-TTL:PT1440M
BEGIN:VTIMEZONE
TZID:America/Edmonton
BEGIN:STANDARD
DTSTART:20241103T020000Z
TZOFFSETFROM:-0600
TZOFFSETTO:-0700
END:STANDARD
BEGIN:DAYLIGHT
DTSTART:20250309T020000Z
TZOFFSETFROM:-0700
TZOFFSETTO:-0600
END:DAYLIGHT
END:VTIMEZONE
BEGIN:VTIMEZONE
TZID:UTC
BEGIN:STANDARD
DTSTART:20250726T112418Z
TZOFFSETFROM:+0000
TZOFFSETTO:+0000
END:STANDARD
END:VTIMEZONE
BEGIN:VEVENT
UID:813-44
DTSTAMP:20260422T112418Z
SUMMARY:WCR Webinar - A history of secularism in Canada
LOCATION:
ORGANIZER;CN=H G:MAILTO:helio@pobox.com
DTSTART;TZID=America/Edmonton:20250326T190000
DTEND;TZID=America/Edmonton:20250326T200000
X-ALT-DESC;FMTTYPE=TEXT/HTML:<p>We will discuss secularism in Canada: what 
 it is\, what it isn't\, and why it's the means to maximal freedom for all.
  Leslie Rosenblood (Secularism Chair for the Centre for Inquiry Canada) is
  presenting.</p>\n
CATEGORIES:General
URL;VALUE=URI:https://rockymountainatheists.ca/mc-events/wcr-webinar-a-hist
 ory-of-secularism-in-canada/
METHOD:PUBLISH
END:VEVENT
END:VCALENDAR