BEGIN:VCALENDAR
VERSION:2.0
PRODID:spatie/icalendar-generator
DESCRIPTION:Events from Rocky Mountain Atheists
X-WR-CALDESC:Events from Rocky Mountain Atheists
REFRESH-INTERVAL;VALUE=DURATION:PT1440M
X-PUBLISHED-TTL:PT1440M
BEGIN:VTIMEZONE
TZID:America/Edmonton
BEGIN:STANDARD
DTSTART:20241103T020000Z
TZOFFSETFROM:-0600
TZOFFSETTO:-0700
END:STANDARD
BEGIN:DAYLIGHT
DTSTART:20250309T020000Z
TZOFFSETFROM:-0700
TZOFFSETTO:-0600
END:DAYLIGHT
BEGIN:STANDARD
DTSTART:20251102T020000Z
TZOFFSETFROM:-0600
TZOFFSETTO:-0700
END:STANDARD
END:VTIMEZONE
BEGIN:VTIMEZONE
TZID:UTC
BEGIN:STANDARD
DTSTART:20250727T034349Z
TZOFFSETFROM:+0000
TZOFFSETTO:+0000
END:STANDARD
END:VTIMEZONE
BEGIN:VEVENT
UID:809-40
DTSTAMP:20260423T034349Z
SUMMARY:WeCanReason 2025 PubNight
LOCATION:
ORGANIZER;CN=admin:MAILTO:webmaster@rockymountainatheists.ca
DTSTART;TZID=America/Edmonton:20250502T190000
DTEND;TZID=America/Edmonton:20250503T000000
X-ALT-DESC;FMTTYPE=TEXT/HTML:<p>Join us for pub night as we welcome you to 
 the WeCanReason Conference! Sandman Calgary Downtown Hotel.  Come and meet
  some of our speakers and mingle with like-minded skeptics!  This event is
  free to attend (even if you are not registered to come to the conference)
 .</p>\n
CATEGORIES:General
URL;VALUE=URI:https://rockymountainatheists.ca/mc-events/wecanreason-2025-p
 ubnight/
METHOD:PUBLISH
END:VEVENT
END:VCALENDAR