BEGIN:VCALENDAR
VERSION:2.0
PRODID:spatie/icalendar-generator
DESCRIPTION:Events from Rocky Mountain Atheists
X-WR-CALDESC:Events from Rocky Mountain Atheists
REFRESH-INTERVAL;VALUE=DURATION:PT1440M
X-PUBLISHED-TTL:PT1440M
BEGIN:VTIMEZONE
TZID:America/Edmonton
BEGIN:STANDARD
DTSTART:20241103T020000Z
TZOFFSETFROM:-0600
TZOFFSETTO:-0700
END:STANDARD
BEGIN:DAYLIGHT
DTSTART:20250309T020000Z
TZOFFSETFROM:-0700
TZOFFSETTO:-0600
END:DAYLIGHT
END:VTIMEZONE
BEGIN:VTIMEZONE
TZID:UTC
BEGIN:STANDARD
DTSTART:20250725T081949Z
TZOFFSETFROM:+0000
TZOFFSETTO:+0000
END:STANDARD
END:VTIMEZONE
BEGIN:VEVENT
UID:804-36
DTSTAMP:20260421T081949Z
SUMMARY:WeCanReason Webinar - Ayahuasca\, Psychedelics and Critical Thinkin
 g (Recorded)
LOCATION:
ORGANIZER;CN=admin:MAILTO:webmaster@rockymountainatheists.ca
DTSTART;TZID=America/Edmonton:20250122T190000
DTEND;TZID=America/Edmonton:20250122T200000
X-ALT-DESC;FMTTYPE=TEXT/HTML:<p>This is a re-broadcast of the live event th
 at took place on Jan 15 at 2pm. As such this event will not have a Q+A but
  you can listen and watch to whatever questions are asked during the live 
 event.</p>\n
CATEGORIES:General
URL;VALUE=URI:https://rockymountainatheists.ca/mc-events/wecanreason-webina
 r-ayahuasca-psychedelics-and-critical-thinking-recorded/
METHOD:PUBLISH
END:VEVENT
END:VCALENDAR