BEGIN:VCALENDAR
VERSION:2.0
PRODID:spatie/icalendar-generator
DESCRIPTION:Events from Rocky Mountain Atheists
X-WR-CALDESC:Events from Rocky Mountain Atheists
REFRESH-INTERVAL;VALUE=DURATION:PT1440M
X-PUBLISHED-TTL:PT1440M
BEGIN:VTIMEZONE
TZID:America/Edmonton
BEGIN:STANDARD
DTSTART:20241103T020000Z
TZOFFSETFROM:-0600
TZOFFSETTO:-0700
END:STANDARD
BEGIN:DAYLIGHT
DTSTART:20250309T020000Z
TZOFFSETFROM:-0700
TZOFFSETTO:-0600
END:DAYLIGHT
END:VTIMEZONE
BEGIN:VTIMEZONE
TZID:UTC
BEGIN:STANDARD
DTSTART:20250725T042530Z
TZOFFSETFROM:+0000
TZOFFSETTO:+0000
END:STANDARD
END:VTIMEZONE
BEGIN:VEVENT
UID:802-35
DTSTAMP:20260421T042530Z
SUMMARY:WeCanReason Webinar - Ayahuasca\, Psychedelics and Critical Thinkin
 g (Live)
LOCATION:
ORGANIZER;CN=H G:MAILTO:helio@pobox.com
DTSTART;TZID=America/Edmonton:20250115T140000
DTEND;TZID=America/Edmonton:20250115T153000
X-ALT-DESC;FMTTYPE=TEXT/HTML:<p>Jan 15 at 2PM is the 'live' event with a Q+
 A\, due to scheduling issues. It will be recorded. There will be a re-broa
 dcast of the recording (no Q+A) on Jan 22 at 7PM.</p>\n
CATEGORIES:Meetup
URL;VALUE=URI:https://rockymountainatheists.ca/mc-events/wecanreason-webina
 r-ayahuasca-psychedelics-and-critical-thinking-live/
METHOD:PUBLISH
END:VEVENT
END:VCALENDAR