BEGIN:VCALENDAR
VERSION:2.0
PRODID:spatie/icalendar-generator
DESCRIPTION:Events from Rocky Mountain Atheists
X-WR-CALDESC:Events from Rocky Mountain Atheists
REFRESH-INTERVAL;VALUE=DURATION:PT1440M
X-PUBLISHED-TTL:PT1440M
BEGIN:VTIMEZONE
TZID:America/Edmonton
BEGIN:DAYLIGHT
DTSTART:20240310T020000Z
TZOFFSETFROM:-0700
TZOFFSETTO:-0600
END:DAYLIGHT
BEGIN:STANDARD
DTSTART:20241103T020000Z
TZOFFSETFROM:-0600
TZOFFSETTO:-0700
END:STANDARD
BEGIN:DAYLIGHT
DTSTART:20250309T020000Z
TZOFFSETFROM:-0700
TZOFFSETTO:-0600
END:DAYLIGHT
END:VTIMEZONE
BEGIN:VTIMEZONE
TZID:UTC
BEGIN:STANDARD
DTSTART:20250724T095440Z
TZOFFSETFROM:+0000
TZOFFSETTO:+0000
END:STANDARD
END:VTIMEZONE
BEGIN:VEVENT
UID:801-33
DTSTAMP:20260420T095440Z
SUMMARY:Webinar: Stab Everyone You Love with Leslie Rosenblood
LOCATION:
ORGANIZER;CN=H G:MAILTO:helio@pobox.com
DTSTART;TZID=America/Edmonton:20241127T190000
DTEND;TZID=America/Edmonton:20241127T210000
X-ALT-DESC;FMTTYPE=TEXT/HTML:<p>Given vaccines decades-long track record of
  preventing illness in billions\, why are so many skeptical about their sa
 fety and efficacy?</p>\n
CATEGORIES:General
URL;VALUE=URI:https://rockymountainatheists.ca/mc-events/webinar-stab-every
 one-you-love-with-leslie-rosenblood/
METHOD:PUBLISH
END:VEVENT
END:VCALENDAR