BEGIN:VCALENDAR
VERSION:2.0
PRODID:spatie/icalendar-generator
DESCRIPTION:Events from Rocky Mountain Atheists
X-WR-CALDESC:Events from Rocky Mountain Atheists
REFRESH-INTERVAL;VALUE=DURATION:PT1440M
X-PUBLISHED-TTL:PT1440M
BEGIN:VTIMEZONE
TZID:America/Edmonton
BEGIN:STANDARD
DTSTART:20241103T020000Z
TZOFFSETFROM:-0600
TZOFFSETTO:-0700
END:STANDARD
BEGIN:DAYLIGHT
DTSTART:20250309T020000Z
TZOFFSETFROM:-0700
TZOFFSETTO:-0600
END:DAYLIGHT
END:VTIMEZONE
BEGIN:VTIMEZONE
TZID:UTC
BEGIN:STANDARD
DTSTART:20250724T185728Z
TZOFFSETFROM:+0000
TZOFFSETTO:+0000
END:STANDARD
END:VTIMEZONE
BEGIN:VEVENT
UID:799-31
DTSTAMP:20260420T185728Z
SUMMARY:Winter Solstice Celebration
LOCATION:
ORGANIZER;CN=admin:MAILTO:webmaster@rockymountainatheists.ca
DTSTART;TZID=America/Edmonton:20241220T183000
DTEND;TZID=America/Edmonton:20241220T223000
X-ALT-DESC;FMTTYPE=TEXT/HTML:<p>Celebrate the Winter Solstice!</p>\n
CATEGORIES:General
URL;VALUE=URI:https://rockymountainatheists.ca/mc-events/winter-solstice-ce
 lebration/
METHOD:PUBLISH
END:VEVENT
END:VCALENDAR