BEGIN:VCALENDAR
VERSION:2.0
PRODID:spatie/icalendar-generator
DESCRIPTION:Events from Rocky Mountain Atheists
X-WR-CALDESC:Events from Rocky Mountain Atheists
REFRESH-INTERVAL;VALUE=DURATION:PT1440M
X-PUBLISHED-TTL:PT1440M
BEGIN:VTIMEZONE
TZID:America/Edmonton
BEGIN:DAYLIGHT
DTSTART:20250309T020000Z
TZOFFSETFROM:-0700
TZOFFSETTO:-0600
END:DAYLIGHT
BEGIN:STANDARD
DTSTART:20251102T020000Z
TZOFFSETFROM:-0600
TZOFFSETTO:-0700
END:STANDARD
BEGIN:DAYLIGHT
DTSTART:20260308T020000Z
TZOFFSETFROM:-0700
TZOFFSETTO:-0600
END:DAYLIGHT
END:VTIMEZONE
BEGIN:VTIMEZONE
TZID:UTC
BEGIN:STANDARD
DTSTART:20250725T001443Z
TZOFFSETFROM:+0000
TZOFFSETTO:+0000
END:STANDARD
END:VTIMEZONE
BEGIN:VEVENT
UID:1226-72
DTSTAMP:20260421T001443Z
SUMMARY:Blood Donor Clinic
LOCATION:
ORGANIZER;CN=admin:MAILTO:webmaster@rockymountainatheists.ca
DTSTART;TZID=America/Edmonton:20250927T110000
DTEND;TZID=America/Edmonton:20250927T120000
X-ALT-DESC;FMTTYPE=TEXT/HTML:<p>We are donating blood at the new Canadian B
 lood Services Clinic (100-207 9th Ave SW). Participants need to be at the 
 clinic at 11am. After the donations then we will go for lunch at Bottlescr
 ew Bill's Pub (140 10 Ave SW). Refer to the Meetup link ( https://www.meet
 up.com/rockymountainatheists/events/310699174/ ) for exact instructions on
  where and how to register!</p>\n
CATEGORIES:General
URL;VALUE=URI:https://rockymountainatheists.ca/mc-events/blood-donor-clinic
 -4/
METHOD:PUBLISH
END:VEVENT
END:VCALENDAR