BEGIN:VCALENDAR
VERSION:2.0
PRODID:spatie/icalendar-generator
DESCRIPTION:Events from Rocky Mountain Atheists
X-WR-CALDESC:Events from Rocky Mountain Atheists
REFRESH-INTERVAL;VALUE=DURATION:PT1440M
X-PUBLISHED-TTL:PT1440M
BEGIN:VTIMEZONE
TZID:America/Edmonton
BEGIN:STANDARD
DTSTART:20241103T020000Z
TZOFFSETFROM:-0600
TZOFFSETTO:-0700
END:STANDARD
BEGIN:DAYLIGHT
DTSTART:20250309T020000Z
TZOFFSETFROM:-0700
TZOFFSETTO:-0600
END:DAYLIGHT
BEGIN:STANDARD
DTSTART:20251102T020000Z
TZOFFSETFROM:-0600
TZOFFSETTO:-0700
END:STANDARD
END:VTIMEZONE
BEGIN:VTIMEZONE
TZID:UTC
BEGIN:STANDARD
DTSTART:20250729T140056Z
TZOFFSETFROM:+0000
TZOFFSETTO:+0000
END:STANDARD
END:VTIMEZONE
BEGIN:VEVENT
UID:1130-55
DTSTAMP:20260425T140056Z
SUMMARY:Movie - Dogma\, The Resurrection Tour- 25th Anniversary showing
LOCATION:
ORGANIZER;CN=H G:MAILTO:helio@pobox.com
DTSTART;TZID=America/Edmonton:20250606T185500
DTEND;TZID=America/Edmonton:20250606T215500
X-ALT-DESC;FMTTYPE=TEXT/HTML:GET YOUR TICKETS AHEAD OF TIME BEFORE THEY SEL
 L OUT! https://www.landmarkcinemas.com/booking?cinemaId=184&amp;amp\;filmId=12
 5991&amp;amp\;sessionId=10976174 Landmark Cinemas\, Calgary\, Country Hills\, 
 300-388 Country Hills Blvd NE We will meet to watch the movie then go our 
 for drinks after. # Dogma: Resurrected A 25th Anniversary Celebration Afte
 r 25 years off the market\, DOGMA serves to be a CULT CLASSIC with&amp;hellip\
 ;
CATEGORIES:General
URL;VALUE=URI:https://rockymountainatheists.ca/mc-events/movie-dogma-the-re
 surrection-tour-25th-anniversary-showing/
METHOD:PUBLISH
END:VEVENT
END:VCALENDAR